BEGIN:VCALENDAR
VERSION:2.0
PRODID:-//The Richmond Revival - ECPv6.15.20//NONSGML v1.0//EN
CALSCALE:GREGORIAN
METHOD:PUBLISH
X-WR-CALNAME:The Richmond Revival
X-ORIGINAL-URL:https://therichmondrevival.com
X-WR-CALDESC:Events for The Richmond Revival
REFRESH-INTERVAL;VALUE=DURATION:PT1H
X-Robots-Tag:noindex
X-PUBLISHED-TTL:PT1H
BEGIN:VTIMEZONE
TZID:Europe/Dublin
BEGIN:STANDARD
TZOFFSETFROM:+0000
TZOFFSETTO:+0100
TZNAME:IST
DTSTART:20250330T010000
END:STANDARD
BEGIN:DAYLIGHT
TZOFFSETFROM:+0100
TZOFFSETTO:+0000
TZNAME:GMT
DTSTART:20251026T010000
END:DAYLIGHT
BEGIN:STANDARD
TZOFFSETFROM:+0000
TZOFFSETTO:+0100
TZNAME:IST
DTSTART:20260329T010000
END:STANDARD
BEGIN:DAYLIGHT
TZOFFSETFROM:+0100
TZOFFSETTO:+0000
TZNAME:GMT
DTSTART:20261025T010000
END:DAYLIGHT
BEGIN:STANDARD
TZOFFSETFROM:+0000
TZOFFSETTO:+0100
TZNAME:IST
DTSTART:20270328T010000
END:STANDARD
BEGIN:DAYLIGHT
TZOFFSETFROM:+0100
TZOFFSETTO:+0000
TZNAME:GMT
DTSTART:20271031T010000
END:DAYLIGHT
END:VTIMEZONE
BEGIN:VEVENT
DTSTART;TZID=Europe/Dublin:20260418T200000
DTEND;TZID=Europe/Dublin:20260418T223000
DTSTAMP:20260420T092846
CREATED:20260308T091217Z
LAST-MODIFIED:20260414T203423Z
UID:4842-1776542400-1776551400@therichmondrevival.com
SUMMARY:Stephen O' Dowd
DESCRIPTION:TICKETS\n\n\n\n\n\n\n\n\nUnfortunately this gig has been Cancelled. \n\n\n\nWe’re delighted to welcome Stephen O’Dowd for his Richmond Revival debut this April. I have had the pleasure of hearing Stephen live and can absolutely testify that you’re (as always) in for a treat. Stephen will be performing at Richmond as part of his National tour and will be joined by Harry Fennel\, a highly accomplished musician in his own right. \n\n\n\nBorn and raised on the West Coast of Ireland in County Sligo\, Stephen O’ Dowd is of the fourth generation of a renowned musical family with deep roots in Irish traditional music. Drawing inspiration from folk legends like Thom Moore\, Planxty\, his father Seamie and John Martyn\, Stephen weaves mythical stories\, vivid landscapes\, and evocative characters into his music. Stephen’s multi- instrumental performances combine Irish traditional heritage with contemporary folk influences\, taking listeners on immersive journeys through songs that feel both timeless and fresh. His performances offer a unique blend of storytelling\, instrumentation\, and deep-rooted musicality. A fixture of the Sligo music community. \n\n\n\n\nTickets\n\n\n\n\n\n\n\n\nTickets €15 + booking Fee  Doors 7pm Gig 8PM \n\n\n\n\nStephen O’ Dowd – YouTube\n\n\n\n\n\n\n\n\n\nHarry Fennell – YouTube\n\n\n\n\n\n\n\n\n\n\nStephen is playing live in Fermoy on the 18th April. \n\n\n\n\n\n\n\nHarry Fennell will be joining Stephen on the night. \n\n\n\nCANCELLATIONS AND REFUNDS A minimum of 7 days notice ahead of the event date is required for refund requests. Refunds cannot be guaranteed if the request is made with less than 7 days notice. If the event is cancelled by the organiser\, refunds will be issued automatically. \n\n\n\n\n\nPLEASE NOTE The venue operates a pop up café which offers a range of liquid refreshments in exchange for CASH ONLY on the night. The Richmond Revival is in the centre of Fermoy\, easily accessible via Bus Éireann. There are also a number of ACCOMMODATION options available onsite. We offer budget single\, twin or double rooms with a shared bathroom and kitchen. There is also a self contained two bedroom suite with private bathroom\, kitchenette and lounge. Campers and camper vans are welcome. Email the venue directly for further information. \n\n\n\nPlease further note By purchasing a ticket to this event\, as part of your admission fee\, you are effectively joining The Richmond Revival Cultural Activity Appreciation Club. The rules of the club are binding — Richmond House is a private family home and people are expected to respect this — No alcohol is to be brought onto the premises — Basic common sense\, decency and kindness is expected from all members. Breaches of these rules will result in immediate suspension of club membership and admittance.We pride ourselves on having beautiful evenings of exquisite original creative music for all to enjoy so lets keep it up!
URL:https://therichmondrevival.com/event/stephen-o-dowd/
CATEGORIES:live gigs
ATTACH;FMTTYPE=image/jpeg:https://therichmondrevival.com/wp-content/uploads/2026/03/Stephen-O_Dowd-Whelan_s-2-1.jpg
ORGANIZER;CN="The Richmond Revival":MAILTO:info@therichmondrevival.com
END:VEVENT
END:VCALENDAR